BEGIN:VCALENDAR
VERSION:2.0
PRODID:-// - ECPv6.15.20//NONSGML v1.0//EN
CALSCALE:GREGORIAN
METHOD:PUBLISH
X-ORIGINAL-URL:https://interactivelegal.com
X-WR-CALDESC:Events for 
REFRESH-INTERVAL;VALUE=DURATION:PT1H
X-Robots-Tag:noindex
X-PUBLISHED-TTL:PT1H
BEGIN:VTIMEZONE
TZID:America/New_York
BEGIN:DAYLIGHT
TZOFFSETFROM:-0500
TZOFFSETTO:-0400
TZNAME:EDT
DTSTART:20250309T070000
END:DAYLIGHT
BEGIN:STANDARD
TZOFFSETFROM:-0400
TZOFFSETTO:-0500
TZNAME:EST
DTSTART:20251102T060000
END:STANDARD
BEGIN:DAYLIGHT
TZOFFSETFROM:-0500
TZOFFSETTO:-0400
TZNAME:EDT
DTSTART:20260308T070000
END:DAYLIGHT
BEGIN:STANDARD
TZOFFSETFROM:-0400
TZOFFSETTO:-0500
TZNAME:EST
DTSTART:20261101T060000
END:STANDARD
BEGIN:DAYLIGHT
TZOFFSETFROM:-0500
TZOFFSETTO:-0400
TZNAME:EDT
DTSTART:20270314T070000
END:DAYLIGHT
BEGIN:STANDARD
TZOFFSETFROM:-0400
TZOFFSETTO:-0500
TZNAME:EST
DTSTART:20271107T060000
END:STANDARD
END:VTIMEZONE
BEGIN:VEVENT
DTSTART;TZID=America/New_York:20260603T070000
DTEND;TZID=America/New_York:20260605T160000
DTSTAMP:20260425T064248
CREATED:20260318T223034Z
LAST-MODIFIED:20260319T204511Z
UID:48108-1780470000-1780675200@interactivelegal.com
SUMMARY:50th Annual Advanced Estate Planning and Probate
DESCRIPTION:Hyatt Regency\n\n\n\nFrisco\, Dallas\, Texas\n\n\n\n\n\n\n\n	\n	\n	\n	\n	\n	\n	\n	\n	\n	\n	\n	\n\n\n\n	\n		\n			\n				\n					\n						InterActive Legal is a proud sponsor of the 50th Annual Advanced Estate Planning & Probate Course from the Texas Bar Association.   \n					\n				\n			\n		\n		\n			\n				\n					\n						\n					\n				\n			\n		\n		\n			\n				\n					\n						Come See Us at the Conference \n					\n				\n			\n		\n		\n			\n				\n					\n				\n				\n					\n						Lisa Briley\, Regional Sales Consultant \n					\n					Schedule a Demo\n				\n			\n		\n		\n			\n				\n					\n						Be sure to visit InterActive Legal’s exhibit booth to meet our Regional Sales Consultant\, Lisa Briley\, and explore our comprehensive planning and drafting systems for estate planning attorneys. Lisa will demonstrate how our solutions can help streamline your drafting process\, provide valuable educational resources\, and support the growth of your practice by allowing you to spend more time engaging with clients. \n						We look forward to connecting with you at the conference. \n					\n				\n			\n		\n		\n			\n				\n					\n						\n					\n				\n			\n		\n		\n			\n				\n					\n						Connect\, Collaborate and Create ® \n					\n					\n						Estate Planning and Elder Law professionals turn to InterActive Legal as their main resource for the latest planning strategies. We provide the most comprehensive productivity system on the market with an easy-to-use document drafting system\, extensive continuing education\, thought-provoking discussion forums\, and more. \n					\n					Click Here to Learn More!
URL:https://interactivelegal.com/event/50th-annual-advanced-estate-planning-and-probate/
ATTACH;FMTTYPE=image/jpeg:https://interactivelegal.com/wp-content/uploads/2026/03/50th-Annual-Advanced-Estate-Planning-and-Probate-CLETexasBar.jpg
END:VEVENT
BEGIN:VEVENT
DTSTART;TZID=America/New_York:20261021T080000
DTEND;TZID=America/New_York:20261023T170000
DTSTAMP:20260425T064248
CREATED:20260423T165759Z
LAST-MODIFIED:20260423T165800Z
UID:48153-1792569600-1792774800@interactivelegal.com
SUMMARY:Stetson University National Conference on Special Needs Planning and Special Needs Trusts
DESCRIPTION:Celebrating 28 years\, Stetson’s National Conference on Special Needs Planning and Special Needs Trusts provides three days of programming with nationally recognized speakers who will cover the major issues presented in the creation\, administration\, monitoring\, and planning of special needs trusts. \n					\n				\n			\n		\n		\n			\n				\n					\n						\n					\n				\n			\n		\n		\n			\n				\n					\n						Come See Us at the National Conference on Special Needs Planning and Special Needs Trusts \n					\n				\n			\n		\n		\n			\n				\n					\n						\n					\n				\n			\n		\n		\n			\n				\n					\n				\n				\n					\n				\n				\n					\n				\n			\n		\n		\n			\n				\n					\n						Lisa BrileyRegional Sales Consultant \n					\n				\n				\n					\n						Teresa L. Bush\, Esq.Attorney\, Director of Education and Support Services \n					\n				\n				\n					\n						Matthew ToveDirector\, Marketing & Sales \n					\n				\n			\n		\n		\n			\n				\n					\n						\n					\n					Schedule a Demo\n					\n						\n					\n				\n			\n		\n		\n			\n				\n					\n						Be sure to stop by InterActive Legal’s exhibit booth to meet our team and learn about InterActive Legal’s comprehensive planning and drafting system for elder law attorneys. Our robust Elder Law Planning™ system aids in the planning phase and during the preparation of documents outlining and executing the modern Medicaid strategies that provide the most benefit for your client. \n						We look forward to meeting you at the conference. \n					\n				\n			\n		\n		\n			\n				\n					\n						\n					\n				\n			\n		\n		\n			\n				\n					\n						Connect\, Collaborate and Create ® \n					\n					\n						Estate Planning and Elder Law professionals turn to InterActive Legal as their main resource for the latest planning strategies. We provide the most comprehensive productivity system on the market with an easy-to-use document drafting system\, extensive continuing education\, thought-provoking discussion forums\, and more. \n					\n					Click Here to Learn More!
URL:https://interactivelegal.com/event/stetson-university-national-conference-on-special-needs-planning-and-special-needs-trusts/
ATTACH;FMTTYPE=image/jpeg:https://interactivelegal.com/wp-content/uploads/2023/06/pexels-cottonbro-studio-7086034.jpg
END:VEVENT
END:VCALENDAR