BEGIN:VCALENDAR
VERSION:2.0
PRODID:-// - ECPv6.15.20//NONSGML v1.0//EN
CALSCALE:GREGORIAN
METHOD:PUBLISH
X-ORIGINAL-URL:https://interactivelegal.com
X-WR-CALDESC:Events for 
REFRESH-INTERVAL;VALUE=DURATION:PT1H
X-Robots-Tag:noindex
X-PUBLISHED-TTL:PT1H
BEGIN:VTIMEZONE
TZID:America/New_York
BEGIN:DAYLIGHT
TZOFFSETFROM:-0500
TZOFFSETTO:-0400
TZNAME:EDT
DTSTART:20250309T070000
END:DAYLIGHT
BEGIN:STANDARD
TZOFFSETFROM:-0400
TZOFFSETTO:-0500
TZNAME:EST
DTSTART:20251102T060000
END:STANDARD
BEGIN:DAYLIGHT
TZOFFSETFROM:-0500
TZOFFSETTO:-0400
TZNAME:EDT
DTSTART:20260308T070000
END:DAYLIGHT
BEGIN:STANDARD
TZOFFSETFROM:-0400
TZOFFSETTO:-0500
TZNAME:EST
DTSTART:20261101T060000
END:STANDARD
BEGIN:DAYLIGHT
TZOFFSETFROM:-0500
TZOFFSETTO:-0400
TZNAME:EDT
DTSTART:20270314T070000
END:DAYLIGHT
BEGIN:STANDARD
TZOFFSETFROM:-0400
TZOFFSETTO:-0500
TZNAME:EST
DTSTART:20271107T060000
END:STANDARD
END:VTIMEZONE
BEGIN:VEVENT
DTSTART;TZID=America/New_York:20260512T150000
DTEND;TZID=America/New_York:20260512T160000
DTSTAMP:20260424T051343
CREATED:20260422T150527Z
LAST-MODIFIED:20260422T150527Z
UID:48130-1778598000-1778601600@interactivelegal.com
SUMMARY:InterActive Legal Academy Masterclass: "Trusts are the Answer\, No Matter the Question"
DESCRIPTION:The Masterclass Series is an exclusive CLE-included program featuring elevated events that deliver advanced insights from the nation’s leading estate planning professionals.\n\n\n\n\n\n\n\n\n\n	\n	\n	\n	\n	\n	\n	\n	\n	\n	\n	\n	\n\n\n\n	\n		\n			\n				\n					\n						CLE Approved in CA\, FL\, IL\, NJ\, NY\, and TX. Self-submit available in other states.  \n						Cost: $70.00 \n					\n					Reserve Your Seat\n					\n						\n					\n				\n			\n		\n		\n			\n				\n					\n						Learn from InterActive Legal’s Experts! \n					\n				\n			\n		\n		\n			\n				\n					\n						\n					\n				\n			\n		\n		\n			\n				\n					\n					\n						This premium\, CLE-included event brings together deep experience\, practical insight\,and decades of shared expertise from InterActive Legal. \n					\n				\n			\n		\n		\n			\n				\n					\n						Are Trusts Always the Answer? \n						Advising a client to skip a trust may feel reasonable—especially when beneficiaries are responsible adults. It may also be one of the most consequential mistakes in the plan. \n						Once assets are distributed outright\, control is gone—and so is protection. As Jonathan Blattmachr often says\, “you can’t get toothpaste back into the tube.” What seems like a simple decision can leave assets exposed to creditors\, poor judgment\, outside influence\, and risks that cannot be reversed. \n						In this ILS Masterclass\, Jonathan Blattmachr and Teresa Bush take on one of the most debated assumptions in estate planning: Are trusts the exception—or should they be the rule? \n					\n				\n				\n					\n				\n			\n		\n		\n			\n				\n					\n						This is not a basic overview. It’s a candid\, experience-driven discussion focused on real-world consequences\, practical tradeoffs\, and the judgment calls that define effective planning.  You’ll walk away with clearer frameworks\, stronger drafting strategies\, and sharper instincts for advising clients—especially when the “easy” answer may not be the best answer. \n						The real question isn’t whether a trust is necessary.  It’s whether you’re willing to accept what happens without one. \n					\n					\n						\n					\n					Register Now\n					\n						Seating is Limited.  Secure your spot today. \n					\n					\n						\n					\n				\n			\n		\n		\n			\n				\n					\n						Meet Our Speakers \n					\n				\n			\n		\n		\n			\n				\n					\n						\n					\n					\n						\n					\n				\n			\n		\n		\n			\n				\n				\n					\n					\n						Jonathan G. Blattmachr\, Esq.InterActive Legal Editor in Chiefand Co-Founder \n					\n				\n				\n					\n					\n						Teresa L. Bush\, Esq.InterActive Legal Diretor of Educationand Support Services \n					\n				\n				\n			\n		\n		\n			\n				\n					\n						\n					\n				\n			\n		\n		\n			\n				\n					\n						Continuing Education Credits \n					\n				\n			\n		\n		\n			\n				\n					\n					\n						InterActive Legal is partnering with Beacon Live to offer CLE Credit for this webinar.You will need to create a Beacon Live account (or use your existing account) to register for this event. \n					\n					\n				\n			\n		\n		\n			\n				\n					\n						\n							CLE Approved Jurisdictions: CA\, FL\, IL\, NJ\, NY\, TX\n							Self-submit available in other states\n							Cost: $70.00\n						\n					\n				\n			\n		\n		\n			\n				\n					\n						\n					\n				\n			\n		\n		\n			\n				\n					\n						Webinar Tips \n					\n				\n			\n		\n		\n			\n				\n					\n						\n					\n				\n			\n		\n		\n			\n				\n					\n						\n							This webinar is being hosted on the Beacon Live platform.\n							You will need to create a Beacon Live account (or use your existing account) to register for this event.\n							Webinar access instructions will be provided after registration.\n							Please note that your link is uniquely registered to you and cannot be shared with anyone.\n							Playback of this webinar will NOT be immediately available.  The recording may be available at a later date.\n							Visit our website event page to learn more about what is happening at InterActive Legal.\n						\n					\n				\n			\n		\n		\n			\n				\n					\n						\n					\n				\n			\n		\n		\n			\n				\n					\n						Connect\, Collaborate and Create ® \n					\n					\n						Estate Planning and Elder Law professionals turn to InterActive Legal as their main resource for the latest planning strategies. We provide the most comprehensive productivity system on the market with an easy-to-use document drafting system\, extensive continuing education\, thought-provoking discussion forums\, and more. \n					\n					Click Here to Learn More!
URL:https://interactivelegal.com/event/masterclass-trusts-are-the-answer-no-matter-the-question/
ATTACH;FMTTYPE=image/png:https://interactivelegal.com/wp-content/uploads/2026/04/Jonathan-Blattmachr-and-Teresa-Bush.png
END:VEVENT
BEGIN:VEVENT
DTSTART;TZID=America/New_York:20260514T070000
DTEND;TZID=America/New_York:20260516T160000
DTSTAMP:20260424T051343
CREATED:20260127T225751Z
LAST-MODIFIED:20260318T211008Z
UID:47982-1778742000-1778947200@interactivelegal.com
SUMMARY:66th Annual Probate & Estate Planning Institute
DESCRIPTION:Grand Traverse Resort & Spa\n\n\n\nAcme\, Michigan\n\n\n\n\n\n\n\n	\n	\n	\n	\n	\n	\n	\n	\n	\n	\n	\n	\n\n\n\n	\n		\n			\n				\n					\n						\n					\n				\n			\n		\n		\n			\n				\n					\n						Co-sponsored by the Probate & Estate Planning Section of the State Bar of Michigan. \n					\n					\n						The purpose of the Probate & Estate Planning Section is to enhance and improve the practice and administration of law pertaining to probate; trust and estate planning\, and administration; guardianships and conservatorships (including planning alternatives); and tax planning. \n					\n				\n			\n		\n		\n			\n				\n					\n						\n					\n				\n			\n		\n		\n			\n				\n					\n						Come See Us at the Conference \n					\n				\n			\n		\n		\n			\n				\n					\n						\n					\n					\n					\n						Steven Palumbo\, Regional Sales Consultant \n					\n					Schedule a Demo\n					\n						\n					\n				\n			\n		\n		\n			\n				\n					\n						InterActive Legal is a proud sponsor of the 66th Annual Probate & Estate Planning Institute.  \n					\n					\n						Be sure to stop by InterActive Legal’s booth to connect with Steven Palumbo and chat about how our innovative estate planning and elder law drafting tools support your daily practice. \n						Learn how InterActive Legal can help grow your practice and help you spend less time drafting and more time engaging with clients. \n						We look forward to seeing you at the conference. \n					\n				\n			\n		\n		\n			\n				\n					\n						\n					\n				\n			\n		\n		\n			\n				\n					\n						Connect\, Collaborate and Create ® \n					\n					\n						Estate Planning and Elder Law professionals turn to InterActive Legal as their main resource for the latest planning strategies. We provide the most comprehensive productivity system on the market with an easy-to-use document drafting system\, extensive continuing education\, thought-provoking discussion forums\, and more. \n					\n					Click Here to Learn More!
URL:https://interactivelegal.com/event/66th-annual-probate-estate-planning-institute/
ATTACH;FMTTYPE=image/jpeg:https://interactivelegal.com/wp-content/uploads/2023/01/conferenceshutterstock_281107127-750.jpg
END:VEVENT
BEGIN:VEVENT
DTSTART;TZID=America/New_York:20260529T070000
DTEND;TZID=America/New_York:20260530T160000
DTSTAMP:20260424T051343
CREATED:20260128T161347Z
LAST-MODIFIED:20260318T210901Z
UID:47986-1780038000-1780156800@interactivelegal.com
SUMMARY:NAELA 2026 Annual Conference
DESCRIPTION:Milwaukee\, Wisconsin\n\n\n\n\n\n\n\n	\n	\n	\n	\n	\n	\n	\n	\n	\n	\n	\n	\n\n\n\n	\n		\n			\n				\n					\n						\n					\n				\n			\n		\n		\n			\n				\n					\n						InterActive Legal is a proud sponsor of the NAELA 2026 Annual Conference \n					\n				\n			\n		\n		\n			\n				\n					\n						\n					\n					\n						Since 1989 NAELA has set the national standard in elder and special needs law education. As the organization that literally wrote the book on this field\, NAELA’s Annual Conference is more than an event—it’s a cornerstone of professional excellence and innovation. Each year\, the Conference draws the most respected voices in the legal community\, offering an unmatched opportunity to engage with thought leaders\, explore groundbreaking legal strategies\, and earn top-tier Continuing Legal Education. This is where the future of elder and special needs law is shaped. \n					\n					\n						\n					\n				\n			\n		\n		\n			\n				\n				\n					\n					\n						Steven PalumboRegional Sales Consultant \n					\n				\n				\n					\n					\n						Rebecca Strub\, Esq.Legal Content Manager \n					\n				\n				\n			\n		\n		\n			\n				\n					\n						\n					\n					\n						Be sure to stop by InterActive Legal’s exhibit booth to connect with our Regional Sales Consultant\, Steven Palumbo\, and our Legal Content Manager\, Rebecca Strub. \n						Discover how InterActive Legal’s comprehensive planning and drafting system empowers elder law attorneys to plan with confidence and draft with precision. Our robust Elder Law Planning™ system supports you from initial strategy development through document preparation\, helping you implement modern Medicaid planning techniques designed to achieve the best possible outcomes for your clients. \n					\n					Schedule a Demo\n					\n						\n					\n				\n			\n		\n		\n			\n				\n					\n						Connect\, Collaborate and Create ® \n					\n					\n						Estate Planning and Elder Law professionals turn to InterActive Legal as their main resource for the latest planning strategies. We provide the most comprehensive productivity system on the market with an easy-to-use document drafting system\, extensive continuing education\, thought-provoking discussion forums\, and more. \n					\n					Click Here to Learn More!
URL:https://interactivelegal.com/event/naela-2026-annual-conference/
ATTACH;FMTTYPE=image/jpeg:https://interactivelegal.com/wp-content/uploads/2026/01/Milwaukee-Skyline.jpg
END:VEVENT
BEGIN:VEVENT
DTSTART;TZID=America/New_York:20260603T070000
DTEND;TZID=America/New_York:20260605T160000
DTSTAMP:20260424T051343
CREATED:20260318T223034Z
LAST-MODIFIED:20260319T204511Z
UID:48108-1780470000-1780675200@interactivelegal.com
SUMMARY:50th Annual Advanced Estate Planning and Probate
DESCRIPTION:Hyatt Regency\n\n\n\nFrisco\, Dallas\, Texas\n\n\n\n\n\n\n\n	\n	\n	\n	\n	\n	\n	\n	\n	\n	\n	\n	\n\n\n\n	\n		\n			\n				\n					\n						InterActive Legal is a proud sponsor of the 50th Annual Advanced Estate Planning & Probate Course from the Texas Bar Association.   \n					\n				\n			\n		\n		\n			\n				\n					\n						\n					\n				\n			\n		\n		\n			\n				\n					\n						Come See Us at the Conference \n					\n				\n			\n		\n		\n			\n				\n					\n				\n				\n					\n						Lisa Briley\, Regional Sales Consultant \n					\n					Schedule a Demo\n				\n			\n		\n		\n			\n				\n					\n						Be sure to visit InterActive Legal’s exhibit booth to meet our Regional Sales Consultant\, Lisa Briley\, and explore our comprehensive planning and drafting systems for estate planning attorneys. Lisa will demonstrate how our solutions can help streamline your drafting process\, provide valuable educational resources\, and support the growth of your practice by allowing you to spend more time engaging with clients. \n						We look forward to connecting with you at the conference. \n					\n				\n			\n		\n		\n			\n				\n					\n						\n					\n				\n			\n		\n		\n			\n				\n					\n						Connect\, Collaborate and Create ® \n					\n					\n						Estate Planning and Elder Law professionals turn to InterActive Legal as their main resource for the latest planning strategies. We provide the most comprehensive productivity system on the market with an easy-to-use document drafting system\, extensive continuing education\, thought-provoking discussion forums\, and more. \n					\n					Click Here to Learn More!
URL:https://interactivelegal.com/event/50th-annual-advanced-estate-planning-and-probate/
ATTACH;FMTTYPE=image/jpeg:https://interactivelegal.com/wp-content/uploads/2026/03/50th-Annual-Advanced-Estate-Planning-and-Probate-CLETexasBar.jpg
END:VEVENT
BEGIN:VEVENT
DTSTART;TZID=America/New_York:20261021T080000
DTEND;TZID=America/New_York:20261023T170000
DTSTAMP:20260424T051343
CREATED:20260423T165759Z
LAST-MODIFIED:20260423T165800Z
UID:48153-1792569600-1792774800@interactivelegal.com
SUMMARY:Stetson University National Conference on Special Needs Planning and Special Needs Trusts
DESCRIPTION:Celebrating 28 years\, Stetson’s National Conference on Special Needs Planning and Special Needs Trusts provides three days of programming with nationally recognized speakers who will cover the major issues presented in the creation\, administration\, monitoring\, and planning of special needs trusts. \n					\n				\n			\n		\n		\n			\n				\n					\n						\n					\n				\n			\n		\n		\n			\n				\n					\n						Come See Us at the National Conference on Special Needs Planning and Special Needs Trusts \n					\n				\n			\n		\n		\n			\n				\n					\n						\n					\n				\n			\n		\n		\n			\n				\n					\n				\n				\n					\n				\n				\n					\n				\n			\n		\n		\n			\n				\n					\n						Lisa BrileyRegional Sales Consultant \n					\n				\n				\n					\n						Teresa L. Bush\, Esq.Attorney\, Director of Education and Support Services \n					\n				\n				\n					\n						Matthew ToveDirector\, Marketing & Sales \n					\n				\n			\n		\n		\n			\n				\n					\n						\n					\n					Schedule a Demo\n					\n						\n					\n				\n			\n		\n		\n			\n				\n					\n						Be sure to stop by InterActive Legal’s exhibit booth to meet our team and learn about InterActive Legal’s comprehensive planning and drafting system for elder law attorneys. Our robust Elder Law Planning™ system aids in the planning phase and during the preparation of documents outlining and executing the modern Medicaid strategies that provide the most benefit for your client. \n						We look forward to meeting you at the conference. \n					\n				\n			\n		\n		\n			\n				\n					\n						\n					\n				\n			\n		\n		\n			\n				\n					\n						Connect\, Collaborate and Create ® \n					\n					\n						Estate Planning and Elder Law professionals turn to InterActive Legal as their main resource for the latest planning strategies. We provide the most comprehensive productivity system on the market with an easy-to-use document drafting system\, extensive continuing education\, thought-provoking discussion forums\, and more. \n					\n					Click Here to Learn More!
URL:https://interactivelegal.com/event/stetson-university-national-conference-on-special-needs-planning-and-special-needs-trusts/
ATTACH;FMTTYPE=image/jpeg:https://interactivelegal.com/wp-content/uploads/2023/06/pexels-cottonbro-studio-7086034.jpg
END:VEVENT
END:VCALENDAR